BEGIN:VCALENDAR
VERSION:2.0
PRODID:-//Harold&#039;s Cave Creek Corral - ECPv6.15.20//NONSGML v1.0//EN
CALSCALE:GREGORIAN
METHOD:PUBLISH
X-ORIGINAL-URL:https://haroldscorral.com
X-WR-CALDESC:Events for Harold&#039;s Cave Creek Corral
REFRESH-INTERVAL;VALUE=DURATION:PT1H
X-Robots-Tag:noindex
X-PUBLISHED-TTL:PT1H
BEGIN:VTIMEZONE
TZID:America/Phoenix
BEGIN:STANDARD
TZOFFSETFROM:-0700
TZOFFSETTO:-0700
TZNAME:MST
DTSTART:20240101T000000
END:STANDARD
END:VTIMEZONE
BEGIN:VEVENT
DTSTART;TZID=America/Phoenix:20251029T170000
DTEND;TZID=America/Phoenix:20251029T200000
DTSTAMP:20260420T032908
CREATED:20240904T213340Z
LAST-MODIFIED:20251013T134430Z
UID:10009635-1761757200-1761768000@haroldscorral.com
SUMMARY:Community Fest
DESCRIPTION:Get your tickets and join us for an evening of celebration and support – It’s COMMUNITY FEST!  Come for great music\, great food\, and great causes on October 29th from 5 pm- 8 pm \nPURCHASE TICKETS \n \nPURCHASE TICKETS
URL:https://haroldscorral.com/event/community-fest/
LOCATION:Harold’s Corral\, 6895 E Cave Creek Rd\, Cave Creek\, AZ\, 85331\, United States
CATEGORIES:90th Anniversary,Harolds Events,Live Music
ATTACH;FMTTYPE=image/jpeg:https://haroldscorral.com/wp-content/uploads/2024/09/Community-Fest-2025-at-Harolds-Corral-1.jpg
GEO:33.8301645;-111.9328981
X-APPLE-STRUCTURED-LOCATION;VALUE=URI;X-ADDRESS=Harold’s Corral 6895 E Cave Creek Rd Cave Creek AZ 85331 United States;X-APPLE-RADIUS=500;X-TITLE=6895 E Cave Creek Rd:geo:-111.9328981,33.8301645
END:VEVENT
END:VCALENDAR