BEGIN:VCALENDAR
VERSION:2.0
PRODID:-//Harold&#039;s Cave Creek Corral - ECPv6.15.20//NONSGML v1.0//EN
CALSCALE:GREGORIAN
METHOD:PUBLISH
X-ORIGINAL-URL:https://haroldscorral.com
X-WR-CALDESC:Events for Harold&#039;s Cave Creek Corral
REFRESH-INTERVAL;VALUE=DURATION:PT1H
X-Robots-Tag:noindex
X-PUBLISHED-TTL:PT1H
BEGIN:VTIMEZONE
TZID:America/Phoenix
BEGIN:STANDARD
TZOFFSETFROM:-0700
TZOFFSETTO:-0700
TZNAME:MST
DTSTART:20300101T000000
END:STANDARD
END:VTIMEZONE
BEGIN:VEVENT
DTSTART;TZID=America/Phoenix:20310129T140000
DTEND;TZID=America/Phoenix:20310129T180000
DTSTAMP:20260425T044529
CREATED:20260330T222039Z
LAST-MODIFIED:20260330T222040Z
UID:10015984-1927461600-1927476000@haroldscorral.com
SUMMARY:HAPPY HOUR
DESCRIPTION:Head to Harold’s for the best Happy Hour in Cave Creek\, Monday – Friday 2 pm – 6 pm! Reverse Happy Hour from 9 pm to close on Sunday – Thursday!  Food and Drink specials starting at $5!  Spend your happiest hours at Harold’s Corral! \n 
URL:https://haroldscorral.com/event/happy-hour-3-2-3-2/2031-01-29/
LOCATION:Harold’s Corral\, 6895 E Cave Creek Rd\, Cave Creek\, AZ\, 85331\, United States
CATEGORIES:Events
GEO:33.8301645;-111.9328981
X-APPLE-STRUCTURED-LOCATION;VALUE=URI;X-ADDRESS=Harold’s Corral 6895 E Cave Creek Rd Cave Creek AZ 85331 United States;X-APPLE-RADIUS=500;X-TITLE=6895 E Cave Creek Rd:geo:-111.9328981,33.8301645
END:VEVENT
BEGIN:VEVENT
DTSTART;TZID=America/Phoenix:20310130T140000
DTEND;TZID=America/Phoenix:20310130T180000
DTSTAMP:20260425T044529
CREATED:20260330T222039Z
LAST-MODIFIED:20260330T222040Z
UID:10015985-1927548000-1927562400@haroldscorral.com
SUMMARY:HAPPY HOUR
DESCRIPTION:Head to Harold’s for the best Happy Hour in Cave Creek\, Monday – Friday 2 pm – 6 pm! Reverse Happy Hour from 9 pm to close on Sunday – Thursday!  Food and Drink specials starting at $5!  Spend your happiest hours at Harold’s Corral! \n 
URL:https://haroldscorral.com/event/happy-hour-3-2-3-2/2031-01-30/
LOCATION:Harold’s Corral\, 6895 E Cave Creek Rd\, Cave Creek\, AZ\, 85331\, United States
CATEGORIES:Events
GEO:33.8301645;-111.9328981
X-APPLE-STRUCTURED-LOCATION;VALUE=URI;X-ADDRESS=Harold’s Corral 6895 E Cave Creek Rd Cave Creek AZ 85331 United States;X-APPLE-RADIUS=500;X-TITLE=6895 E Cave Creek Rd:geo:-111.9328981,33.8301645
END:VEVENT
BEGIN:VEVENT
DTSTART;TZID=America/Phoenix:20310131T140000
DTEND;TZID=America/Phoenix:20310131T180000
DTSTAMP:20260425T044529
CREATED:20260330T222039Z
LAST-MODIFIED:20260330T222040Z
UID:10015986-1927634400-1927648800@haroldscorral.com
SUMMARY:HAPPY HOUR
DESCRIPTION:Head to Harold’s for the best Happy Hour in Cave Creek\, Monday – Friday 2 pm – 6 pm! Reverse Happy Hour from 9 pm to close on Sunday – Thursday!  Food and Drink specials starting at $5!  Spend your happiest hours at Harold’s Corral! \n 
URL:https://haroldscorral.com/event/happy-hour-3-2-3-2/2031-01-31/
LOCATION:Harold’s Corral\, 6895 E Cave Creek Rd\, Cave Creek\, AZ\, 85331\, United States
CATEGORIES:Events
GEO:33.8301645;-111.9328981
X-APPLE-STRUCTURED-LOCATION;VALUE=URI;X-ADDRESS=Harold’s Corral 6895 E Cave Creek Rd Cave Creek AZ 85331 United States;X-APPLE-RADIUS=500;X-TITLE=6895 E Cave Creek Rd:geo:-111.9328981,33.8301645
END:VEVENT
BEGIN:VEVENT
DTSTART;TZID=America/Phoenix:20310202T200000
DTEND;TZID=America/Phoenix:20310203T000000
DTSTAMP:20260425T044529
CREATED:20260212T182300Z
LAST-MODIFIED:20260212T182302Z
UID:10015911-1927828800-1927843200@haroldscorral.com
SUMMARY:KARAOKE Hosted by Casey Clark
DESCRIPTION:It’s Karaoke time hosted by Casey Clark of Silver Sage Productions. Head over to Harold’s grab the mic and belt out a tune for a chance to win a Harold’s gift card – Every Sunday starting at 8 pm!  We have plenty of drink specials for those who need a little liquid courage!
URL:https://haroldscorral.com/event/karaoke-hosted-by-casey-clark-2-2-2-2/2031-02-02/
LOCATION:Harold’s Corral\, 6895 E Cave Creek Rd\, Cave Creek\, AZ\, 85331\, United States
CATEGORIES:Events
ATTACH;FMTTYPE=image/png:https://haroldscorral.com/wp-content/uploads/2024/05/Harolds-Events-27.png
GEO:33.8301645;-111.9328981
X-APPLE-STRUCTURED-LOCATION;VALUE=URI;X-ADDRESS=Harold’s Corral 6895 E Cave Creek Rd Cave Creek AZ 85331 United States;X-APPLE-RADIUS=500;X-TITLE=6895 E Cave Creek Rd:geo:-111.9328981,33.8301645
END:VEVENT
BEGIN:VEVENT
DTSTART;TZID=America/Phoenix:20310203T140000
DTEND;TZID=America/Phoenix:20310203T180000
DTSTAMP:20260425T044529
CREATED:20260330T222039Z
LAST-MODIFIED:20260330T222040Z
UID:10015987-1927893600-1927908000@haroldscorral.com
SUMMARY:HAPPY HOUR
DESCRIPTION:Head to Harold’s for the best Happy Hour in Cave Creek\, Monday – Friday 2 pm – 6 pm! Reverse Happy Hour from 9 pm to close on Sunday – Thursday!  Food and Drink specials starting at $5!  Spend your happiest hours at Harold’s Corral! \n 
URL:https://haroldscorral.com/event/happy-hour-3-2-3-2/2031-02-03/
LOCATION:Harold’s Corral\, 6895 E Cave Creek Rd\, Cave Creek\, AZ\, 85331\, United States
CATEGORIES:Events
GEO:33.8301645;-111.9328981
X-APPLE-STRUCTURED-LOCATION;VALUE=URI;X-ADDRESS=Harold’s Corral 6895 E Cave Creek Rd Cave Creek AZ 85331 United States;X-APPLE-RADIUS=500;X-TITLE=6895 E Cave Creek Rd:geo:-111.9328981,33.8301645
END:VEVENT
BEGIN:VEVENT
DTSTART;TZID=America/Phoenix:20310204T140000
DTEND;TZID=America/Phoenix:20310204T180000
DTSTAMP:20260425T044529
CREATED:20260330T222039Z
LAST-MODIFIED:20260330T222040Z
UID:10015988-1927980000-1927994400@haroldscorral.com
SUMMARY:HAPPY HOUR
DESCRIPTION:Head to Harold’s for the best Happy Hour in Cave Creek\, Monday – Friday 2 pm – 6 pm! Reverse Happy Hour from 9 pm to close on Sunday – Thursday!  Food and Drink specials starting at $5!  Spend your happiest hours at Harold’s Corral! \n 
URL:https://haroldscorral.com/event/happy-hour-3-2-3-2/2031-02-04/
LOCATION:Harold’s Corral\, 6895 E Cave Creek Rd\, Cave Creek\, AZ\, 85331\, United States
CATEGORIES:Events
GEO:33.8301645;-111.9328981
X-APPLE-STRUCTURED-LOCATION;VALUE=URI;X-ADDRESS=Harold’s Corral 6895 E Cave Creek Rd Cave Creek AZ 85331 United States;X-APPLE-RADIUS=500;X-TITLE=6895 E Cave Creek Rd:geo:-111.9328981,33.8301645
END:VEVENT
BEGIN:VEVENT
DTSTART;TZID=America/Phoenix:20310204T160000
DTEND;TZID=America/Phoenix:20310204T160000
DTSTAMP:20260425T044529
CREATED:20260315T170923Z
LAST-MODIFIED:20260315T171238Z
UID:10015942-1927987200-1927987200@haroldscorral.com
SUMMARY:Taco Tuesday Specials
DESCRIPTION:It’s Taco Tuesday! Treat yourself to HALF OFF our Street Tacos and Mexican Dinner Specials every Tuesday from 4 pm – close! \nWe also have $5 Dos XX\, Modelo\, Pacifico\, Corona & Corona Premier \n$7 3 Amigos Margaritas \n$7 Herradura Blanco & Herradura Reposado \n$8 Herradura Anejo
URL:https://haroldscorral.com/event/taco-tuesday-specials-2-2-2-2-2-2-2/2031-02-04/
LOCATION:Harold’s Corral\, 6895 E Cave Creek Rd\, Cave Creek\, AZ\, 85331\, United States
CATEGORIES:Daily Specials
ATTACH;FMTTYPE=image/webp:https://haroldscorral.com/wp-content/uploads/2026/02/taco-tuesday-specials-at-harolds.webp
GEO:33.8301645;-111.9328981
X-APPLE-STRUCTURED-LOCATION;VALUE=URI;X-ADDRESS=Harold’s Corral 6895 E Cave Creek Rd Cave Creek AZ 85331 United States;X-APPLE-RADIUS=500;X-TITLE=6895 E Cave Creek Rd:geo:-111.9328981,33.8301645
END:VEVENT
BEGIN:VEVENT
DTSTART;TZID=America/Phoenix:20310205T140000
DTEND;TZID=America/Phoenix:20310205T180000
DTSTAMP:20260425T044529
CREATED:20260330T222039Z
LAST-MODIFIED:20260330T222040Z
UID:10015989-1928066400-1928080800@haroldscorral.com
SUMMARY:HAPPY HOUR
DESCRIPTION:Head to Harold’s for the best Happy Hour in Cave Creek\, Monday – Friday 2 pm – 6 pm! Reverse Happy Hour from 9 pm to close on Sunday – Thursday!  Food and Drink specials starting at $5!  Spend your happiest hours at Harold’s Corral! \n 
URL:https://haroldscorral.com/event/happy-hour-3-2-3-2/2031-02-05/
LOCATION:Harold’s Corral\, 6895 E Cave Creek Rd\, Cave Creek\, AZ\, 85331\, United States
CATEGORIES:Events
GEO:33.8301645;-111.9328981
X-APPLE-STRUCTURED-LOCATION;VALUE=URI;X-ADDRESS=Harold’s Corral 6895 E Cave Creek Rd Cave Creek AZ 85331 United States;X-APPLE-RADIUS=500;X-TITLE=6895 E Cave Creek Rd:geo:-111.9328981,33.8301645
END:VEVENT
BEGIN:VEVENT
DTSTART;TZID=America/Phoenix:20310206T140000
DTEND;TZID=America/Phoenix:20310206T180000
DTSTAMP:20260425T044529
CREATED:20260330T222039Z
LAST-MODIFIED:20260330T222040Z
UID:10015990-1928152800-1928167200@haroldscorral.com
SUMMARY:HAPPY HOUR
DESCRIPTION:Head to Harold’s for the best Happy Hour in Cave Creek\, Monday – Friday 2 pm – 6 pm! Reverse Happy Hour from 9 pm to close on Sunday – Thursday!  Food and Drink specials starting at $5!  Spend your happiest hours at Harold’s Corral! \n 
URL:https://haroldscorral.com/event/happy-hour-3-2-3-2/2031-02-06/
LOCATION:Harold’s Corral\, 6895 E Cave Creek Rd\, Cave Creek\, AZ\, 85331\, United States
CATEGORIES:Events
GEO:33.8301645;-111.9328981
X-APPLE-STRUCTURED-LOCATION;VALUE=URI;X-ADDRESS=Harold’s Corral 6895 E Cave Creek Rd Cave Creek AZ 85331 United States;X-APPLE-RADIUS=500;X-TITLE=6895 E Cave Creek Rd:geo:-111.9328981,33.8301645
END:VEVENT
BEGIN:VEVENT
DTSTART;TZID=America/Phoenix:20310207T140000
DTEND;TZID=America/Phoenix:20310207T180000
DTSTAMP:20260425T044529
CREATED:20260330T222039Z
LAST-MODIFIED:20260330T222040Z
UID:10015991-1928239200-1928253600@haroldscorral.com
SUMMARY:HAPPY HOUR
DESCRIPTION:Head to Harold’s for the best Happy Hour in Cave Creek\, Monday – Friday 2 pm – 6 pm! Reverse Happy Hour from 9 pm to close on Sunday – Thursday!  Food and Drink specials starting at $5!  Spend your happiest hours at Harold’s Corral! \n 
URL:https://haroldscorral.com/event/happy-hour-3-2-3-2/2031-02-07/
LOCATION:Harold’s Corral\, 6895 E Cave Creek Rd\, Cave Creek\, AZ\, 85331\, United States
CATEGORIES:Events
GEO:33.8301645;-111.9328981
X-APPLE-STRUCTURED-LOCATION;VALUE=URI;X-ADDRESS=Harold’s Corral 6895 E Cave Creek Rd Cave Creek AZ 85331 United States;X-APPLE-RADIUS=500;X-TITLE=6895 E Cave Creek Rd:geo:-111.9328981,33.8301645
END:VEVENT
BEGIN:VEVENT
DTSTART;TZID=America/Phoenix:20310209T200000
DTEND;TZID=America/Phoenix:20310210T000000
DTSTAMP:20260425T044529
CREATED:20260212T182300Z
LAST-MODIFIED:20260212T182302Z
UID:10015912-1928433600-1928448000@haroldscorral.com
SUMMARY:KARAOKE Hosted by Casey Clark
DESCRIPTION:It’s Karaoke time hosted by Casey Clark of Silver Sage Productions. Head over to Harold’s grab the mic and belt out a tune for a chance to win a Harold’s gift card – Every Sunday starting at 8 pm!  We have plenty of drink specials for those who need a little liquid courage!
URL:https://haroldscorral.com/event/karaoke-hosted-by-casey-clark-2-2-2-2/2031-02-09/
LOCATION:Harold’s Corral\, 6895 E Cave Creek Rd\, Cave Creek\, AZ\, 85331\, United States
CATEGORIES:Events
ATTACH;FMTTYPE=image/png:https://haroldscorral.com/wp-content/uploads/2024/05/Harolds-Events-27.png
GEO:33.8301645;-111.9328981
X-APPLE-STRUCTURED-LOCATION;VALUE=URI;X-ADDRESS=Harold’s Corral 6895 E Cave Creek Rd Cave Creek AZ 85331 United States;X-APPLE-RADIUS=500;X-TITLE=6895 E Cave Creek Rd:geo:-111.9328981,33.8301645
END:VEVENT
BEGIN:VEVENT
DTSTART;TZID=America/Phoenix:20310210T140000
DTEND;TZID=America/Phoenix:20310210T180000
DTSTAMP:20260425T044529
CREATED:20260330T222039Z
LAST-MODIFIED:20260330T222040Z
UID:10015992-1928498400-1928512800@haroldscorral.com
SUMMARY:HAPPY HOUR
DESCRIPTION:Head to Harold’s for the best Happy Hour in Cave Creek\, Monday – Friday 2 pm – 6 pm! Reverse Happy Hour from 9 pm to close on Sunday – Thursday!  Food and Drink specials starting at $5!  Spend your happiest hours at Harold’s Corral! \n 
URL:https://haroldscorral.com/event/happy-hour-3-2-3-2/2031-02-10/
LOCATION:Harold’s Corral\, 6895 E Cave Creek Rd\, Cave Creek\, AZ\, 85331\, United States
CATEGORIES:Events
GEO:33.8301645;-111.9328981
X-APPLE-STRUCTURED-LOCATION;VALUE=URI;X-ADDRESS=Harold’s Corral 6895 E Cave Creek Rd Cave Creek AZ 85331 United States;X-APPLE-RADIUS=500;X-TITLE=6895 E Cave Creek Rd:geo:-111.9328981,33.8301645
END:VEVENT
BEGIN:VEVENT
DTSTART;TZID=America/Phoenix:20310211T140000
DTEND;TZID=America/Phoenix:20310211T180000
DTSTAMP:20260425T044529
CREATED:20260330T222039Z
LAST-MODIFIED:20260330T222040Z
UID:10015993-1928584800-1928599200@haroldscorral.com
SUMMARY:HAPPY HOUR
DESCRIPTION:Head to Harold’s for the best Happy Hour in Cave Creek\, Monday – Friday 2 pm – 6 pm! Reverse Happy Hour from 9 pm to close on Sunday – Thursday!  Food and Drink specials starting at $5!  Spend your happiest hours at Harold’s Corral! \n 
URL:https://haroldscorral.com/event/happy-hour-3-2-3-2/2031-02-11/
LOCATION:Harold’s Corral\, 6895 E Cave Creek Rd\, Cave Creek\, AZ\, 85331\, United States
CATEGORIES:Events
GEO:33.8301645;-111.9328981
X-APPLE-STRUCTURED-LOCATION;VALUE=URI;X-ADDRESS=Harold’s Corral 6895 E Cave Creek Rd Cave Creek AZ 85331 United States;X-APPLE-RADIUS=500;X-TITLE=6895 E Cave Creek Rd:geo:-111.9328981,33.8301645
END:VEVENT
BEGIN:VEVENT
DTSTART;TZID=America/Phoenix:20310211T160000
DTEND;TZID=America/Phoenix:20310211T160000
DTSTAMP:20260425T044529
CREATED:20260315T170923Z
LAST-MODIFIED:20260315T171238Z
UID:10015943-1928592000-1928592000@haroldscorral.com
SUMMARY:Taco Tuesday Specials
DESCRIPTION:It’s Taco Tuesday! Treat yourself to HALF OFF our Street Tacos and Mexican Dinner Specials every Tuesday from 4 pm – close! \nWe also have $5 Dos XX\, Modelo\, Pacifico\, Corona & Corona Premier \n$7 3 Amigos Margaritas \n$7 Herradura Blanco & Herradura Reposado \n$8 Herradura Anejo
URL:https://haroldscorral.com/event/taco-tuesday-specials-2-2-2-2-2-2-2/2031-02-11/
LOCATION:Harold’s Corral\, 6895 E Cave Creek Rd\, Cave Creek\, AZ\, 85331\, United States
CATEGORIES:Daily Specials
ATTACH;FMTTYPE=image/webp:https://haroldscorral.com/wp-content/uploads/2026/02/taco-tuesday-specials-at-harolds.webp
GEO:33.8301645;-111.9328981
X-APPLE-STRUCTURED-LOCATION;VALUE=URI;X-ADDRESS=Harold’s Corral 6895 E Cave Creek Rd Cave Creek AZ 85331 United States;X-APPLE-RADIUS=500;X-TITLE=6895 E Cave Creek Rd:geo:-111.9328981,33.8301645
END:VEVENT
BEGIN:VEVENT
DTSTART;TZID=America/Phoenix:20310212T140000
DTEND;TZID=America/Phoenix:20310212T180000
DTSTAMP:20260425T044529
CREATED:20260330T222039Z
LAST-MODIFIED:20260330T222040Z
UID:10015994-1928671200-1928685600@haroldscorral.com
SUMMARY:HAPPY HOUR
DESCRIPTION:Head to Harold’s for the best Happy Hour in Cave Creek\, Monday – Friday 2 pm – 6 pm! Reverse Happy Hour from 9 pm to close on Sunday – Thursday!  Food and Drink specials starting at $5!  Spend your happiest hours at Harold’s Corral! \n 
URL:https://haroldscorral.com/event/happy-hour-3-2-3-2/2031-02-12/
LOCATION:Harold’s Corral\, 6895 E Cave Creek Rd\, Cave Creek\, AZ\, 85331\, United States
CATEGORIES:Events
GEO:33.8301645;-111.9328981
X-APPLE-STRUCTURED-LOCATION;VALUE=URI;X-ADDRESS=Harold’s Corral 6895 E Cave Creek Rd Cave Creek AZ 85331 United States;X-APPLE-RADIUS=500;X-TITLE=6895 E Cave Creek Rd:geo:-111.9328981,33.8301645
END:VEVENT
BEGIN:VEVENT
DTSTART;TZID=America/Phoenix:20310213T140000
DTEND;TZID=America/Phoenix:20310213T180000
DTSTAMP:20260425T044529
CREATED:20260330T222039Z
LAST-MODIFIED:20260330T222040Z
UID:10015995-1928757600-1928772000@haroldscorral.com
SUMMARY:HAPPY HOUR
DESCRIPTION:Head to Harold’s for the best Happy Hour in Cave Creek\, Monday – Friday 2 pm – 6 pm! Reverse Happy Hour from 9 pm to close on Sunday – Thursday!  Food and Drink specials starting at $5!  Spend your happiest hours at Harold’s Corral! \n 
URL:https://haroldscorral.com/event/happy-hour-3-2-3-2/2031-02-13/
LOCATION:Harold’s Corral\, 6895 E Cave Creek Rd\, Cave Creek\, AZ\, 85331\, United States
CATEGORIES:Events
GEO:33.8301645;-111.9328981
X-APPLE-STRUCTURED-LOCATION;VALUE=URI;X-ADDRESS=Harold’s Corral 6895 E Cave Creek Rd Cave Creek AZ 85331 United States;X-APPLE-RADIUS=500;X-TITLE=6895 E Cave Creek Rd:geo:-111.9328981,33.8301645
END:VEVENT
BEGIN:VEVENT
DTSTART;TZID=America/Phoenix:20310214T140000
DTEND;TZID=America/Phoenix:20310214T180000
DTSTAMP:20260425T044529
CREATED:20260330T222039Z
LAST-MODIFIED:20260330T222040Z
UID:10015996-1928844000-1928858400@haroldscorral.com
SUMMARY:HAPPY HOUR
DESCRIPTION:Head to Harold’s for the best Happy Hour in Cave Creek\, Monday – Friday 2 pm – 6 pm! Reverse Happy Hour from 9 pm to close on Sunday – Thursday!  Food and Drink specials starting at $5!  Spend your happiest hours at Harold’s Corral! \n 
URL:https://haroldscorral.com/event/happy-hour-3-2-3-2/2031-02-14/
LOCATION:Harold’s Corral\, 6895 E Cave Creek Rd\, Cave Creek\, AZ\, 85331\, United States
CATEGORIES:Events
GEO:33.8301645;-111.9328981
X-APPLE-STRUCTURED-LOCATION;VALUE=URI;X-ADDRESS=Harold’s Corral 6895 E Cave Creek Rd Cave Creek AZ 85331 United States;X-APPLE-RADIUS=500;X-TITLE=6895 E Cave Creek Rd:geo:-111.9328981,33.8301645
END:VEVENT
BEGIN:VEVENT
DTSTART;TZID=America/Phoenix:20310217T140000
DTEND;TZID=America/Phoenix:20310217T180000
DTSTAMP:20260425T044529
CREATED:20260330T222039Z
LAST-MODIFIED:20260330T222040Z
UID:10015997-1929103200-1929117600@haroldscorral.com
SUMMARY:HAPPY HOUR
DESCRIPTION:Head to Harold’s for the best Happy Hour in Cave Creek\, Monday – Friday 2 pm – 6 pm! Reverse Happy Hour from 9 pm to close on Sunday – Thursday!  Food and Drink specials starting at $5!  Spend your happiest hours at Harold’s Corral! \n 
URL:https://haroldscorral.com/event/happy-hour-3-2-3-2/2031-02-17/
LOCATION:Harold’s Corral\, 6895 E Cave Creek Rd\, Cave Creek\, AZ\, 85331\, United States
CATEGORIES:Events
GEO:33.8301645;-111.9328981
X-APPLE-STRUCTURED-LOCATION;VALUE=URI;X-ADDRESS=Harold’s Corral 6895 E Cave Creek Rd Cave Creek AZ 85331 United States;X-APPLE-RADIUS=500;X-TITLE=6895 E Cave Creek Rd:geo:-111.9328981,33.8301645
END:VEVENT
BEGIN:VEVENT
DTSTART;TZID=America/Phoenix:20310218T140000
DTEND;TZID=America/Phoenix:20310218T180000
DTSTAMP:20260425T044529
CREATED:20260330T222039Z
LAST-MODIFIED:20260330T222040Z
UID:10015998-1929189600-1929204000@haroldscorral.com
SUMMARY:HAPPY HOUR
DESCRIPTION:Head to Harold’s for the best Happy Hour in Cave Creek\, Monday – Friday 2 pm – 6 pm! Reverse Happy Hour from 9 pm to close on Sunday – Thursday!  Food and Drink specials starting at $5!  Spend your happiest hours at Harold’s Corral! \n 
URL:https://haroldscorral.com/event/happy-hour-3-2-3-2/2031-02-18/
LOCATION:Harold’s Corral\, 6895 E Cave Creek Rd\, Cave Creek\, AZ\, 85331\, United States
CATEGORIES:Events
GEO:33.8301645;-111.9328981
X-APPLE-STRUCTURED-LOCATION;VALUE=URI;X-ADDRESS=Harold’s Corral 6895 E Cave Creek Rd Cave Creek AZ 85331 United States;X-APPLE-RADIUS=500;X-TITLE=6895 E Cave Creek Rd:geo:-111.9328981,33.8301645
END:VEVENT
BEGIN:VEVENT
DTSTART;TZID=America/Phoenix:20310218T160000
DTEND;TZID=America/Phoenix:20310218T160000
DTSTAMP:20260425T044529
CREATED:20260315T170923Z
LAST-MODIFIED:20260315T171238Z
UID:10015948-1929196800-1929196800@haroldscorral.com
SUMMARY:Taco Tuesday Specials
DESCRIPTION:It’s Taco Tuesday! Treat yourself to HALF OFF our Street Tacos and Mexican Dinner Specials every Tuesday from 4 pm – close! \nWe also have $5 Dos XX\, Modelo\, Pacifico\, Corona & Corona Premier \n$7 3 Amigos Margaritas \n$7 Herradura Blanco & Herradura Reposado \n$8 Herradura Anejo
URL:https://haroldscorral.com/event/taco-tuesday-specials-2-2-2-2-2-2-2/2031-02-18/
LOCATION:Harold’s Corral\, 6895 E Cave Creek Rd\, Cave Creek\, AZ\, 85331\, United States
CATEGORIES:Daily Specials
ATTACH;FMTTYPE=image/webp:https://haroldscorral.com/wp-content/uploads/2026/02/taco-tuesday-specials-at-harolds.webp
GEO:33.8301645;-111.9328981
X-APPLE-STRUCTURED-LOCATION;VALUE=URI;X-ADDRESS=Harold’s Corral 6895 E Cave Creek Rd Cave Creek AZ 85331 United States;X-APPLE-RADIUS=500;X-TITLE=6895 E Cave Creek Rd:geo:-111.9328981,33.8301645
END:VEVENT
BEGIN:VEVENT
DTSTART;TZID=America/Phoenix:20310219T140000
DTEND;TZID=America/Phoenix:20310219T180000
DTSTAMP:20260425T044529
CREATED:20260330T222039Z
LAST-MODIFIED:20260330T222040Z
UID:10015999-1929276000-1929290400@haroldscorral.com
SUMMARY:HAPPY HOUR
DESCRIPTION:Head to Harold’s for the best Happy Hour in Cave Creek\, Monday – Friday 2 pm – 6 pm! Reverse Happy Hour from 9 pm to close on Sunday – Thursday!  Food and Drink specials starting at $5!  Spend your happiest hours at Harold’s Corral! \n 
URL:https://haroldscorral.com/event/happy-hour-3-2-3-2/2031-02-19/
LOCATION:Harold’s Corral\, 6895 E Cave Creek Rd\, Cave Creek\, AZ\, 85331\, United States
CATEGORIES:Events
GEO:33.8301645;-111.9328981
X-APPLE-STRUCTURED-LOCATION;VALUE=URI;X-ADDRESS=Harold’s Corral 6895 E Cave Creek Rd Cave Creek AZ 85331 United States;X-APPLE-RADIUS=500;X-TITLE=6895 E Cave Creek Rd:geo:-111.9328981,33.8301645
END:VEVENT
BEGIN:VEVENT
DTSTART;TZID=America/Phoenix:20310220T140000
DTEND;TZID=America/Phoenix:20310220T180000
DTSTAMP:20260425T044529
CREATED:20260330T222039Z
LAST-MODIFIED:20260330T222040Z
UID:10016000-1929362400-1929376800@haroldscorral.com
SUMMARY:HAPPY HOUR
DESCRIPTION:Head to Harold’s for the best Happy Hour in Cave Creek\, Monday – Friday 2 pm – 6 pm! Reverse Happy Hour from 9 pm to close on Sunday – Thursday!  Food and Drink specials starting at $5!  Spend your happiest hours at Harold’s Corral! \n 
URL:https://haroldscorral.com/event/happy-hour-3-2-3-2/2031-02-20/
LOCATION:Harold’s Corral\, 6895 E Cave Creek Rd\, Cave Creek\, AZ\, 85331\, United States
CATEGORIES:Events
GEO:33.8301645;-111.9328981
X-APPLE-STRUCTURED-LOCATION;VALUE=URI;X-ADDRESS=Harold’s Corral 6895 E Cave Creek Rd Cave Creek AZ 85331 United States;X-APPLE-RADIUS=500;X-TITLE=6895 E Cave Creek Rd:geo:-111.9328981,33.8301645
END:VEVENT
BEGIN:VEVENT
DTSTART;TZID=America/Phoenix:20310221T140000
DTEND;TZID=America/Phoenix:20310221T180000
DTSTAMP:20260425T044529
CREATED:20260330T222039Z
LAST-MODIFIED:20260330T222040Z
UID:10016001-1929448800-1929463200@haroldscorral.com
SUMMARY:HAPPY HOUR
DESCRIPTION:Head to Harold’s for the best Happy Hour in Cave Creek\, Monday – Friday 2 pm – 6 pm! Reverse Happy Hour from 9 pm to close on Sunday – Thursday!  Food and Drink specials starting at $5!  Spend your happiest hours at Harold’s Corral! \n 
URL:https://haroldscorral.com/event/happy-hour-3-2-3-2/2031-02-21/
LOCATION:Harold’s Corral\, 6895 E Cave Creek Rd\, Cave Creek\, AZ\, 85331\, United States
CATEGORIES:Events
GEO:33.8301645;-111.9328981
X-APPLE-STRUCTURED-LOCATION;VALUE=URI;X-ADDRESS=Harold’s Corral 6895 E Cave Creek Rd Cave Creek AZ 85331 United States;X-APPLE-RADIUS=500;X-TITLE=6895 E Cave Creek Rd:geo:-111.9328981,33.8301645
END:VEVENT
BEGIN:VEVENT
DTSTART;TZID=America/Phoenix:20310224T140000
DTEND;TZID=America/Phoenix:20310224T180000
DTSTAMP:20260425T044529
CREATED:20260330T222039Z
LAST-MODIFIED:20260330T222040Z
UID:10016002-1929708000-1929722400@haroldscorral.com
SUMMARY:HAPPY HOUR
DESCRIPTION:Head to Harold’s for the best Happy Hour in Cave Creek\, Monday – Friday 2 pm – 6 pm! Reverse Happy Hour from 9 pm to close on Sunday – Thursday!  Food and Drink specials starting at $5!  Spend your happiest hours at Harold’s Corral! \n 
URL:https://haroldscorral.com/event/happy-hour-3-2-3-2/2031-02-24/
LOCATION:Harold’s Corral\, 6895 E Cave Creek Rd\, Cave Creek\, AZ\, 85331\, United States
CATEGORIES:Events
GEO:33.8301645;-111.9328981
X-APPLE-STRUCTURED-LOCATION;VALUE=URI;X-ADDRESS=Harold’s Corral 6895 E Cave Creek Rd Cave Creek AZ 85331 United States;X-APPLE-RADIUS=500;X-TITLE=6895 E Cave Creek Rd:geo:-111.9328981,33.8301645
END:VEVENT
BEGIN:VEVENT
DTSTART;TZID=America/Phoenix:20310225T140000
DTEND;TZID=America/Phoenix:20310225T180000
DTSTAMP:20260425T044529
CREATED:20260330T222039Z
LAST-MODIFIED:20260330T222040Z
UID:10016003-1929794400-1929808800@haroldscorral.com
SUMMARY:HAPPY HOUR
DESCRIPTION:Head to Harold’s for the best Happy Hour in Cave Creek\, Monday – Friday 2 pm – 6 pm! Reverse Happy Hour from 9 pm to close on Sunday – Thursday!  Food and Drink specials starting at $5!  Spend your happiest hours at Harold’s Corral! \n 
URL:https://haroldscorral.com/event/happy-hour-3-2-3-2/2031-02-25/
LOCATION:Harold’s Corral\, 6895 E Cave Creek Rd\, Cave Creek\, AZ\, 85331\, United States
CATEGORIES:Events
GEO:33.8301645;-111.9328981
X-APPLE-STRUCTURED-LOCATION;VALUE=URI;X-ADDRESS=Harold’s Corral 6895 E Cave Creek Rd Cave Creek AZ 85331 United States;X-APPLE-RADIUS=500;X-TITLE=6895 E Cave Creek Rd:geo:-111.9328981,33.8301645
END:VEVENT
BEGIN:VEVENT
DTSTART;TZID=America/Phoenix:20310225T160000
DTEND;TZID=America/Phoenix:20310225T160000
DTSTAMP:20260425T044529
CREATED:20260315T170923Z
LAST-MODIFIED:20260315T171238Z
UID:10015963-1929801600-1929801600@haroldscorral.com
SUMMARY:Taco Tuesday Specials
DESCRIPTION:It’s Taco Tuesday! Treat yourself to HALF OFF our Street Tacos and Mexican Dinner Specials every Tuesday from 4 pm – close! \nWe also have $5 Dos XX\, Modelo\, Pacifico\, Corona & Corona Premier \n$7 3 Amigos Margaritas \n$7 Herradura Blanco & Herradura Reposado \n$8 Herradura Anejo
URL:https://haroldscorral.com/event/taco-tuesday-specials-2-2-2-2-2-2-2/2031-02-25/
LOCATION:Harold’s Corral\, 6895 E Cave Creek Rd\, Cave Creek\, AZ\, 85331\, United States
CATEGORIES:Daily Specials
ATTACH;FMTTYPE=image/webp:https://haroldscorral.com/wp-content/uploads/2026/02/taco-tuesday-specials-at-harolds.webp
GEO:33.8301645;-111.9328981
X-APPLE-STRUCTURED-LOCATION;VALUE=URI;X-ADDRESS=Harold’s Corral 6895 E Cave Creek Rd Cave Creek AZ 85331 United States;X-APPLE-RADIUS=500;X-TITLE=6895 E Cave Creek Rd:geo:-111.9328981,33.8301645
END:VEVENT
BEGIN:VEVENT
DTSTART;TZID=America/Phoenix:20310226T140000
DTEND;TZID=America/Phoenix:20310226T180000
DTSTAMP:20260425T044529
CREATED:20260330T222039Z
LAST-MODIFIED:20260330T222040Z
UID:10016004-1929880800-1929895200@haroldscorral.com
SUMMARY:HAPPY HOUR
DESCRIPTION:Head to Harold’s for the best Happy Hour in Cave Creek\, Monday – Friday 2 pm – 6 pm! Reverse Happy Hour from 9 pm to close on Sunday – Thursday!  Food and Drink specials starting at $5!  Spend your happiest hours at Harold’s Corral! \n 
URL:https://haroldscorral.com/event/happy-hour-3-2-3-2/2031-02-26/
LOCATION:Harold’s Corral\, 6895 E Cave Creek Rd\, Cave Creek\, AZ\, 85331\, United States
CATEGORIES:Events
GEO:33.8301645;-111.9328981
X-APPLE-STRUCTURED-LOCATION;VALUE=URI;X-ADDRESS=Harold’s Corral 6895 E Cave Creek Rd Cave Creek AZ 85331 United States;X-APPLE-RADIUS=500;X-TITLE=6895 E Cave Creek Rd:geo:-111.9328981,33.8301645
END:VEVENT
BEGIN:VEVENT
DTSTART;TZID=America/Phoenix:20310227T140000
DTEND;TZID=America/Phoenix:20310227T180000
DTSTAMP:20260425T044529
CREATED:20260330T222039Z
LAST-MODIFIED:20260330T222040Z
UID:10016005-1929967200-1929981600@haroldscorral.com
SUMMARY:HAPPY HOUR
DESCRIPTION:Head to Harold’s for the best Happy Hour in Cave Creek\, Monday – Friday 2 pm – 6 pm! Reverse Happy Hour from 9 pm to close on Sunday – Thursday!  Food and Drink specials starting at $5!  Spend your happiest hours at Harold’s Corral! \n 
URL:https://haroldscorral.com/event/happy-hour-3-2-3-2/2031-02-27/
LOCATION:Harold’s Corral\, 6895 E Cave Creek Rd\, Cave Creek\, AZ\, 85331\, United States
CATEGORIES:Events
GEO:33.8301645;-111.9328981
X-APPLE-STRUCTURED-LOCATION;VALUE=URI;X-ADDRESS=Harold’s Corral 6895 E Cave Creek Rd Cave Creek AZ 85331 United States;X-APPLE-RADIUS=500;X-TITLE=6895 E Cave Creek Rd:geo:-111.9328981,33.8301645
END:VEVENT
BEGIN:VEVENT
DTSTART;TZID=America/Phoenix:20310228T140000
DTEND;TZID=America/Phoenix:20310228T180000
DTSTAMP:20260425T044529
CREATED:20260330T222039Z
LAST-MODIFIED:20260330T222040Z
UID:10016006-1930053600-1930068000@haroldscorral.com
SUMMARY:HAPPY HOUR
DESCRIPTION:Head to Harold’s for the best Happy Hour in Cave Creek\, Monday – Friday 2 pm – 6 pm! Reverse Happy Hour from 9 pm to close on Sunday – Thursday!  Food and Drink specials starting at $5!  Spend your happiest hours at Harold’s Corral! \n 
URL:https://haroldscorral.com/event/happy-hour-3-2-3-2/2031-02-28/
LOCATION:Harold’s Corral\, 6895 E Cave Creek Rd\, Cave Creek\, AZ\, 85331\, United States
CATEGORIES:Events
GEO:33.8301645;-111.9328981
X-APPLE-STRUCTURED-LOCATION;VALUE=URI;X-ADDRESS=Harold’s Corral 6895 E Cave Creek Rd Cave Creek AZ 85331 United States;X-APPLE-RADIUS=500;X-TITLE=6895 E Cave Creek Rd:geo:-111.9328981,33.8301645
END:VEVENT
BEGIN:VEVENT
DTSTART;TZID=America/Phoenix:20310303T140000
DTEND;TZID=America/Phoenix:20310303T180000
DTSTAMP:20260425T044529
CREATED:20260330T222039Z
LAST-MODIFIED:20260330T222040Z
UID:10016007-1930312800-1930327200@haroldscorral.com
SUMMARY:HAPPY HOUR
DESCRIPTION:Head to Harold’s for the best Happy Hour in Cave Creek\, Monday – Friday 2 pm – 6 pm! Reverse Happy Hour from 9 pm to close on Sunday – Thursday!  Food and Drink specials starting at $5!  Spend your happiest hours at Harold’s Corral! \n 
URL:https://haroldscorral.com/event/happy-hour-3-2-3-2/2031-03-03/
LOCATION:Harold’s Corral\, 6895 E Cave Creek Rd\, Cave Creek\, AZ\, 85331\, United States
CATEGORIES:Events
GEO:33.8301645;-111.9328981
X-APPLE-STRUCTURED-LOCATION;VALUE=URI;X-ADDRESS=Harold’s Corral 6895 E Cave Creek Rd Cave Creek AZ 85331 United States;X-APPLE-RADIUS=500;X-TITLE=6895 E Cave Creek Rd:geo:-111.9328981,33.8301645
END:VEVENT
END:VCALENDAR