BEGIN:VCALENDAR
VERSION:2.0
PRODID:-//Harold&#039;s Cave Creek Corral - ECPv6.15.20//NONSGML v1.0//EN
CALSCALE:GREGORIAN
METHOD:PUBLISH
X-ORIGINAL-URL:https://haroldscorral.com
X-WR-CALDESC:Events for Harold&#039;s Cave Creek Corral
REFRESH-INTERVAL;VALUE=DURATION:PT1H
X-Robots-Tag:noindex
X-PUBLISHED-TTL:PT1H
BEGIN:VTIMEZONE
TZID:America/Phoenix
BEGIN:STANDARD
TZOFFSETFROM:-0700
TZOFFSETTO:-0700
TZNAME:MST
DTSTART:20300101T000000
END:STANDARD
END:VTIMEZONE
BEGIN:VEVENT
DTSTART;TZID=America/Phoenix:20310219T140000
DTEND;TZID=America/Phoenix:20310219T180000
DTSTAMP:20260425T081808
CREATED:20260330T222039Z
LAST-MODIFIED:20260330T222040Z
UID:10015999-1929276000-1929290400@haroldscorral.com
SUMMARY:HAPPY HOUR
DESCRIPTION:Head to Harold’s for the best Happy Hour in Cave Creek\, Monday – Friday 2 pm – 6 pm! Reverse Happy Hour from 9 pm to close on Sunday – Thursday!  Food and Drink specials starting at $5!  Spend your happiest hours at Harold’s Corral! \n 
URL:https://haroldscorral.com/event/happy-hour-3-2-3-2/2031-02-19/
LOCATION:Harold’s Corral\, 6895 E Cave Creek Rd\, Cave Creek\, AZ\, 85331\, United States
CATEGORIES:Events
GEO:33.8301645;-111.9328981
X-APPLE-STRUCTURED-LOCATION;VALUE=URI;X-ADDRESS=Harold’s Corral 6895 E Cave Creek Rd Cave Creek AZ 85331 United States;X-APPLE-RADIUS=500;X-TITLE=6895 E Cave Creek Rd:geo:-111.9328981,33.8301645
END:VEVENT
BEGIN:VEVENT
DTSTART;TZID=America/Phoenix:20310220T140000
DTEND;TZID=America/Phoenix:20310220T180000
DTSTAMP:20260425T081808
CREATED:20260330T222039Z
LAST-MODIFIED:20260330T222040Z
UID:10016000-1929362400-1929376800@haroldscorral.com
SUMMARY:HAPPY HOUR
DESCRIPTION:Head to Harold’s for the best Happy Hour in Cave Creek\, Monday – Friday 2 pm – 6 pm! Reverse Happy Hour from 9 pm to close on Sunday – Thursday!  Food and Drink specials starting at $5!  Spend your happiest hours at Harold’s Corral! \n 
URL:https://haroldscorral.com/event/happy-hour-3-2-3-2/2031-02-20/
LOCATION:Harold’s Corral\, 6895 E Cave Creek Rd\, Cave Creek\, AZ\, 85331\, United States
CATEGORIES:Events
GEO:33.8301645;-111.9328981
X-APPLE-STRUCTURED-LOCATION;VALUE=URI;X-ADDRESS=Harold’s Corral 6895 E Cave Creek Rd Cave Creek AZ 85331 United States;X-APPLE-RADIUS=500;X-TITLE=6895 E Cave Creek Rd:geo:-111.9328981,33.8301645
END:VEVENT
BEGIN:VEVENT
DTSTART;TZID=America/Phoenix:20310221T140000
DTEND;TZID=America/Phoenix:20310221T180000
DTSTAMP:20260425T081808
CREATED:20260330T222039Z
LAST-MODIFIED:20260330T222040Z
UID:10016001-1929448800-1929463200@haroldscorral.com
SUMMARY:HAPPY HOUR
DESCRIPTION:Head to Harold’s for the best Happy Hour in Cave Creek\, Monday – Friday 2 pm – 6 pm! Reverse Happy Hour from 9 pm to close on Sunday – Thursday!  Food and Drink specials starting at $5!  Spend your happiest hours at Harold’s Corral! \n 
URL:https://haroldscorral.com/event/happy-hour-3-2-3-2/2031-02-21/
LOCATION:Harold’s Corral\, 6895 E Cave Creek Rd\, Cave Creek\, AZ\, 85331\, United States
CATEGORIES:Events
GEO:33.8301645;-111.9328981
X-APPLE-STRUCTURED-LOCATION;VALUE=URI;X-ADDRESS=Harold’s Corral 6895 E Cave Creek Rd Cave Creek AZ 85331 United States;X-APPLE-RADIUS=500;X-TITLE=6895 E Cave Creek Rd:geo:-111.9328981,33.8301645
END:VEVENT
BEGIN:VEVENT
DTSTART;TZID=America/Phoenix:20310224T140000
DTEND;TZID=America/Phoenix:20310224T180000
DTSTAMP:20260425T081808
CREATED:20260330T222039Z
LAST-MODIFIED:20260330T222040Z
UID:10016002-1929708000-1929722400@haroldscorral.com
SUMMARY:HAPPY HOUR
DESCRIPTION:Head to Harold’s for the best Happy Hour in Cave Creek\, Monday – Friday 2 pm – 6 pm! Reverse Happy Hour from 9 pm to close on Sunday – Thursday!  Food and Drink specials starting at $5!  Spend your happiest hours at Harold’s Corral! \n 
URL:https://haroldscorral.com/event/happy-hour-3-2-3-2/2031-02-24/
LOCATION:Harold’s Corral\, 6895 E Cave Creek Rd\, Cave Creek\, AZ\, 85331\, United States
CATEGORIES:Events
GEO:33.8301645;-111.9328981
X-APPLE-STRUCTURED-LOCATION;VALUE=URI;X-ADDRESS=Harold’s Corral 6895 E Cave Creek Rd Cave Creek AZ 85331 United States;X-APPLE-RADIUS=500;X-TITLE=6895 E Cave Creek Rd:geo:-111.9328981,33.8301645
END:VEVENT
BEGIN:VEVENT
DTSTART;TZID=America/Phoenix:20310225T140000
DTEND;TZID=America/Phoenix:20310225T180000
DTSTAMP:20260425T081808
CREATED:20260330T222039Z
LAST-MODIFIED:20260330T222040Z
UID:10016003-1929794400-1929808800@haroldscorral.com
SUMMARY:HAPPY HOUR
DESCRIPTION:Head to Harold’s for the best Happy Hour in Cave Creek\, Monday – Friday 2 pm – 6 pm! Reverse Happy Hour from 9 pm to close on Sunday – Thursday!  Food and Drink specials starting at $5!  Spend your happiest hours at Harold’s Corral! \n 
URL:https://haroldscorral.com/event/happy-hour-3-2-3-2/2031-02-25/
LOCATION:Harold’s Corral\, 6895 E Cave Creek Rd\, Cave Creek\, AZ\, 85331\, United States
CATEGORIES:Events
GEO:33.8301645;-111.9328981
X-APPLE-STRUCTURED-LOCATION;VALUE=URI;X-ADDRESS=Harold’s Corral 6895 E Cave Creek Rd Cave Creek AZ 85331 United States;X-APPLE-RADIUS=500;X-TITLE=6895 E Cave Creek Rd:geo:-111.9328981,33.8301645
END:VEVENT
BEGIN:VEVENT
DTSTART;TZID=America/Phoenix:20310225T160000
DTEND;TZID=America/Phoenix:20310225T160000
DTSTAMP:20260425T081808
CREATED:20260315T170923Z
LAST-MODIFIED:20260315T171238Z
UID:10015963-1929801600-1929801600@haroldscorral.com
SUMMARY:Taco Tuesday Specials
DESCRIPTION:It’s Taco Tuesday! Treat yourself to HALF OFF our Street Tacos and Mexican Dinner Specials every Tuesday from 4 pm – close! \nWe also have $5 Dos XX\, Modelo\, Pacifico\, Corona & Corona Premier \n$7 3 Amigos Margaritas \n$7 Herradura Blanco & Herradura Reposado \n$8 Herradura Anejo
URL:https://haroldscorral.com/event/taco-tuesday-specials-2-2-2-2-2-2-2/2031-02-25/
LOCATION:Harold’s Corral\, 6895 E Cave Creek Rd\, Cave Creek\, AZ\, 85331\, United States
CATEGORIES:Daily Specials
ATTACH;FMTTYPE=image/webp:https://haroldscorral.com/wp-content/uploads/2026/02/taco-tuesday-specials-at-harolds.webp
GEO:33.8301645;-111.9328981
X-APPLE-STRUCTURED-LOCATION;VALUE=URI;X-ADDRESS=Harold’s Corral 6895 E Cave Creek Rd Cave Creek AZ 85331 United States;X-APPLE-RADIUS=500;X-TITLE=6895 E Cave Creek Rd:geo:-111.9328981,33.8301645
END:VEVENT
BEGIN:VEVENT
DTSTART;TZID=America/Phoenix:20310226T140000
DTEND;TZID=America/Phoenix:20310226T180000
DTSTAMP:20260425T081808
CREATED:20260330T222039Z
LAST-MODIFIED:20260330T222040Z
UID:10016004-1929880800-1929895200@haroldscorral.com
SUMMARY:HAPPY HOUR
DESCRIPTION:Head to Harold’s for the best Happy Hour in Cave Creek\, Monday – Friday 2 pm – 6 pm! Reverse Happy Hour from 9 pm to close on Sunday – Thursday!  Food and Drink specials starting at $5!  Spend your happiest hours at Harold’s Corral! \n 
URL:https://haroldscorral.com/event/happy-hour-3-2-3-2/2031-02-26/
LOCATION:Harold’s Corral\, 6895 E Cave Creek Rd\, Cave Creek\, AZ\, 85331\, United States
CATEGORIES:Events
GEO:33.8301645;-111.9328981
X-APPLE-STRUCTURED-LOCATION;VALUE=URI;X-ADDRESS=Harold’s Corral 6895 E Cave Creek Rd Cave Creek AZ 85331 United States;X-APPLE-RADIUS=500;X-TITLE=6895 E Cave Creek Rd:geo:-111.9328981,33.8301645
END:VEVENT
BEGIN:VEVENT
DTSTART;TZID=America/Phoenix:20310227T140000
DTEND;TZID=America/Phoenix:20310227T180000
DTSTAMP:20260425T081808
CREATED:20260330T222039Z
LAST-MODIFIED:20260330T222040Z
UID:10016005-1929967200-1929981600@haroldscorral.com
SUMMARY:HAPPY HOUR
DESCRIPTION:Head to Harold’s for the best Happy Hour in Cave Creek\, Monday – Friday 2 pm – 6 pm! Reverse Happy Hour from 9 pm to close on Sunday – Thursday!  Food and Drink specials starting at $5!  Spend your happiest hours at Harold’s Corral! \n 
URL:https://haroldscorral.com/event/happy-hour-3-2-3-2/2031-02-27/
LOCATION:Harold’s Corral\, 6895 E Cave Creek Rd\, Cave Creek\, AZ\, 85331\, United States
CATEGORIES:Events
GEO:33.8301645;-111.9328981
X-APPLE-STRUCTURED-LOCATION;VALUE=URI;X-ADDRESS=Harold’s Corral 6895 E Cave Creek Rd Cave Creek AZ 85331 United States;X-APPLE-RADIUS=500;X-TITLE=6895 E Cave Creek Rd:geo:-111.9328981,33.8301645
END:VEVENT
BEGIN:VEVENT
DTSTART;TZID=America/Phoenix:20310228T140000
DTEND;TZID=America/Phoenix:20310228T180000
DTSTAMP:20260425T081808
CREATED:20260330T222039Z
LAST-MODIFIED:20260330T222040Z
UID:10016006-1930053600-1930068000@haroldscorral.com
SUMMARY:HAPPY HOUR
DESCRIPTION:Head to Harold’s for the best Happy Hour in Cave Creek\, Monday – Friday 2 pm – 6 pm! Reverse Happy Hour from 9 pm to close on Sunday – Thursday!  Food and Drink specials starting at $5!  Spend your happiest hours at Harold’s Corral! \n 
URL:https://haroldscorral.com/event/happy-hour-3-2-3-2/2031-02-28/
LOCATION:Harold’s Corral\, 6895 E Cave Creek Rd\, Cave Creek\, AZ\, 85331\, United States
CATEGORIES:Events
GEO:33.8301645;-111.9328981
X-APPLE-STRUCTURED-LOCATION;VALUE=URI;X-ADDRESS=Harold’s Corral 6895 E Cave Creek Rd Cave Creek AZ 85331 United States;X-APPLE-RADIUS=500;X-TITLE=6895 E Cave Creek Rd:geo:-111.9328981,33.8301645
END:VEVENT
BEGIN:VEVENT
DTSTART;TZID=America/Phoenix:20310303T140000
DTEND;TZID=America/Phoenix:20310303T180000
DTSTAMP:20260425T081808
CREATED:20260330T222039Z
LAST-MODIFIED:20260330T222040Z
UID:10016007-1930312800-1930327200@haroldscorral.com
SUMMARY:HAPPY HOUR
DESCRIPTION:Head to Harold’s for the best Happy Hour in Cave Creek\, Monday – Friday 2 pm – 6 pm! Reverse Happy Hour from 9 pm to close on Sunday – Thursday!  Food and Drink specials starting at $5!  Spend your happiest hours at Harold’s Corral! \n 
URL:https://haroldscorral.com/event/happy-hour-3-2-3-2/2031-03-03/
LOCATION:Harold’s Corral\, 6895 E Cave Creek Rd\, Cave Creek\, AZ\, 85331\, United States
CATEGORIES:Events
GEO:33.8301645;-111.9328981
X-APPLE-STRUCTURED-LOCATION;VALUE=URI;X-ADDRESS=Harold’s Corral 6895 E Cave Creek Rd Cave Creek AZ 85331 United States;X-APPLE-RADIUS=500;X-TITLE=6895 E Cave Creek Rd:geo:-111.9328981,33.8301645
END:VEVENT
BEGIN:VEVENT
DTSTART;TZID=America/Phoenix:20310304T140000
DTEND;TZID=America/Phoenix:20310304T180000
DTSTAMP:20260425T081808
CREATED:20260330T222039Z
LAST-MODIFIED:20260330T222040Z
UID:10016008-1930399200-1930413600@haroldscorral.com
SUMMARY:HAPPY HOUR
DESCRIPTION:Head to Harold’s for the best Happy Hour in Cave Creek\, Monday – Friday 2 pm – 6 pm! Reverse Happy Hour from 9 pm to close on Sunday – Thursday!  Food and Drink specials starting at $5!  Spend your happiest hours at Harold’s Corral! \n 
URL:https://haroldscorral.com/event/happy-hour-3-2-3-2/2031-03-04/
LOCATION:Harold’s Corral\, 6895 E Cave Creek Rd\, Cave Creek\, AZ\, 85331\, United States
CATEGORIES:Events
GEO:33.8301645;-111.9328981
X-APPLE-STRUCTURED-LOCATION;VALUE=URI;X-ADDRESS=Harold’s Corral 6895 E Cave Creek Rd Cave Creek AZ 85331 United States;X-APPLE-RADIUS=500;X-TITLE=6895 E Cave Creek Rd:geo:-111.9328981,33.8301645
END:VEVENT
BEGIN:VEVENT
DTSTART;TZID=America/Phoenix:20310304T160000
DTEND;TZID=America/Phoenix:20310304T160000
DTSTAMP:20260425T081808
CREATED:20260315T170923Z
LAST-MODIFIED:20260315T171238Z
UID:10015964-1930406400-1930406400@haroldscorral.com
SUMMARY:Taco Tuesday Specials
DESCRIPTION:It’s Taco Tuesday! Treat yourself to HALF OFF our Street Tacos and Mexican Dinner Specials every Tuesday from 4 pm – close! \nWe also have $5 Dos XX\, Modelo\, Pacifico\, Corona & Corona Premier \n$7 3 Amigos Margaritas \n$7 Herradura Blanco & Herradura Reposado \n$8 Herradura Anejo
URL:https://haroldscorral.com/event/taco-tuesday-specials-2-2-2-2-2-2-2/2031-03-04/
LOCATION:Harold’s Corral\, 6895 E Cave Creek Rd\, Cave Creek\, AZ\, 85331\, United States
CATEGORIES:Daily Specials
ATTACH;FMTTYPE=image/webp:https://haroldscorral.com/wp-content/uploads/2026/02/taco-tuesday-specials-at-harolds.webp
GEO:33.8301645;-111.9328981
X-APPLE-STRUCTURED-LOCATION;VALUE=URI;X-ADDRESS=Harold’s Corral 6895 E Cave Creek Rd Cave Creek AZ 85331 United States;X-APPLE-RADIUS=500;X-TITLE=6895 E Cave Creek Rd:geo:-111.9328981,33.8301645
END:VEVENT
BEGIN:VEVENT
DTSTART;TZID=America/Phoenix:20310305T140000
DTEND;TZID=America/Phoenix:20310305T180000
DTSTAMP:20260425T081808
CREATED:20260330T222039Z
LAST-MODIFIED:20260330T222040Z
UID:10016009-1930485600-1930500000@haroldscorral.com
SUMMARY:HAPPY HOUR
DESCRIPTION:Head to Harold’s for the best Happy Hour in Cave Creek\, Monday – Friday 2 pm – 6 pm! Reverse Happy Hour from 9 pm to close on Sunday – Thursday!  Food and Drink specials starting at $5!  Spend your happiest hours at Harold’s Corral! \n 
URL:https://haroldscorral.com/event/happy-hour-3-2-3-2/2031-03-05/
LOCATION:Harold’s Corral\, 6895 E Cave Creek Rd\, Cave Creek\, AZ\, 85331\, United States
CATEGORIES:Events
GEO:33.8301645;-111.9328981
X-APPLE-STRUCTURED-LOCATION;VALUE=URI;X-ADDRESS=Harold’s Corral 6895 E Cave Creek Rd Cave Creek AZ 85331 United States;X-APPLE-RADIUS=500;X-TITLE=6895 E Cave Creek Rd:geo:-111.9328981,33.8301645
END:VEVENT
BEGIN:VEVENT
DTSTART;TZID=America/Phoenix:20310306T140000
DTEND;TZID=America/Phoenix:20310306T180000
DTSTAMP:20260425T081808
CREATED:20260330T222039Z
LAST-MODIFIED:20260330T222040Z
UID:10016010-1930572000-1930586400@haroldscorral.com
SUMMARY:HAPPY HOUR
DESCRIPTION:Head to Harold’s for the best Happy Hour in Cave Creek\, Monday – Friday 2 pm – 6 pm! Reverse Happy Hour from 9 pm to close on Sunday – Thursday!  Food and Drink specials starting at $5!  Spend your happiest hours at Harold’s Corral! \n 
URL:https://haroldscorral.com/event/happy-hour-3-2-3-2/2031-03-06/
LOCATION:Harold’s Corral\, 6895 E Cave Creek Rd\, Cave Creek\, AZ\, 85331\, United States
CATEGORIES:Events
GEO:33.8301645;-111.9328981
X-APPLE-STRUCTURED-LOCATION;VALUE=URI;X-ADDRESS=Harold’s Corral 6895 E Cave Creek Rd Cave Creek AZ 85331 United States;X-APPLE-RADIUS=500;X-TITLE=6895 E Cave Creek Rd:geo:-111.9328981,33.8301645
END:VEVENT
BEGIN:VEVENT
DTSTART;TZID=America/Phoenix:20310307T140000
DTEND;TZID=America/Phoenix:20310307T180000
DTSTAMP:20260425T081808
CREATED:20260330T222039Z
LAST-MODIFIED:20260330T222040Z
UID:10016011-1930658400-1930672800@haroldscorral.com
SUMMARY:HAPPY HOUR
DESCRIPTION:Head to Harold’s for the best Happy Hour in Cave Creek\, Monday – Friday 2 pm – 6 pm! Reverse Happy Hour from 9 pm to close on Sunday – Thursday!  Food and Drink specials starting at $5!  Spend your happiest hours at Harold’s Corral! \n 
URL:https://haroldscorral.com/event/happy-hour-3-2-3-2/2031-03-07/
LOCATION:Harold’s Corral\, 6895 E Cave Creek Rd\, Cave Creek\, AZ\, 85331\, United States
CATEGORIES:Events
GEO:33.8301645;-111.9328981
X-APPLE-STRUCTURED-LOCATION;VALUE=URI;X-ADDRESS=Harold’s Corral 6895 E Cave Creek Rd Cave Creek AZ 85331 United States;X-APPLE-RADIUS=500;X-TITLE=6895 E Cave Creek Rd:geo:-111.9328981,33.8301645
END:VEVENT
BEGIN:VEVENT
DTSTART;TZID=America/Phoenix:20310310T140000
DTEND;TZID=America/Phoenix:20310310T180000
DTSTAMP:20260425T081808
CREATED:20260330T222039Z
LAST-MODIFIED:20260330T222040Z
UID:10016012-1930917600-1930932000@haroldscorral.com
SUMMARY:HAPPY HOUR
DESCRIPTION:Head to Harold’s for the best Happy Hour in Cave Creek\, Monday – Friday 2 pm – 6 pm! Reverse Happy Hour from 9 pm to close on Sunday – Thursday!  Food and Drink specials starting at $5!  Spend your happiest hours at Harold’s Corral! \n 
URL:https://haroldscorral.com/event/happy-hour-3-2-3-2/2031-03-10/
LOCATION:Harold’s Corral\, 6895 E Cave Creek Rd\, Cave Creek\, AZ\, 85331\, United States
CATEGORIES:Events
GEO:33.8301645;-111.9328981
X-APPLE-STRUCTURED-LOCATION;VALUE=URI;X-ADDRESS=Harold’s Corral 6895 E Cave Creek Rd Cave Creek AZ 85331 United States;X-APPLE-RADIUS=500;X-TITLE=6895 E Cave Creek Rd:geo:-111.9328981,33.8301645
END:VEVENT
BEGIN:VEVENT
DTSTART;TZID=America/Phoenix:20310311T140000
DTEND;TZID=America/Phoenix:20310311T180000
DTSTAMP:20260425T081808
CREATED:20260330T222039Z
LAST-MODIFIED:20260330T222040Z
UID:10016013-1931004000-1931018400@haroldscorral.com
SUMMARY:HAPPY HOUR
DESCRIPTION:Head to Harold’s for the best Happy Hour in Cave Creek\, Monday – Friday 2 pm – 6 pm! Reverse Happy Hour from 9 pm to close on Sunday – Thursday!  Food and Drink specials starting at $5!  Spend your happiest hours at Harold’s Corral! \n 
URL:https://haroldscorral.com/event/happy-hour-3-2-3-2/2031-03-11/
LOCATION:Harold’s Corral\, 6895 E Cave Creek Rd\, Cave Creek\, AZ\, 85331\, United States
CATEGORIES:Events
GEO:33.8301645;-111.9328981
X-APPLE-STRUCTURED-LOCATION;VALUE=URI;X-ADDRESS=Harold’s Corral 6895 E Cave Creek Rd Cave Creek AZ 85331 United States;X-APPLE-RADIUS=500;X-TITLE=6895 E Cave Creek Rd:geo:-111.9328981,33.8301645
END:VEVENT
BEGIN:VEVENT
DTSTART;TZID=America/Phoenix:20310311T160000
DTEND;TZID=America/Phoenix:20310311T160000
DTSTAMP:20260425T081808
CREATED:20260315T170923Z
LAST-MODIFIED:20260315T171238Z
UID:10015965-1931011200-1931011200@haroldscorral.com
SUMMARY:Taco Tuesday Specials
DESCRIPTION:It’s Taco Tuesday! Treat yourself to HALF OFF our Street Tacos and Mexican Dinner Specials every Tuesday from 4 pm – close! \nWe also have $5 Dos XX\, Modelo\, Pacifico\, Corona & Corona Premier \n$7 3 Amigos Margaritas \n$7 Herradura Blanco & Herradura Reposado \n$8 Herradura Anejo
URL:https://haroldscorral.com/event/taco-tuesday-specials-2-2-2-2-2-2-2/2031-03-11/
LOCATION:Harold’s Corral\, 6895 E Cave Creek Rd\, Cave Creek\, AZ\, 85331\, United States
CATEGORIES:Daily Specials
ATTACH;FMTTYPE=image/webp:https://haroldscorral.com/wp-content/uploads/2026/02/taco-tuesday-specials-at-harolds.webp
GEO:33.8301645;-111.9328981
X-APPLE-STRUCTURED-LOCATION;VALUE=URI;X-ADDRESS=Harold’s Corral 6895 E Cave Creek Rd Cave Creek AZ 85331 United States;X-APPLE-RADIUS=500;X-TITLE=6895 E Cave Creek Rd:geo:-111.9328981,33.8301645
END:VEVENT
BEGIN:VEVENT
DTSTART;TZID=America/Phoenix:20310312T140000
DTEND;TZID=America/Phoenix:20310312T180000
DTSTAMP:20260425T081808
CREATED:20260330T222039Z
LAST-MODIFIED:20260330T222040Z
UID:10016014-1931090400-1931104800@haroldscorral.com
SUMMARY:HAPPY HOUR
DESCRIPTION:Head to Harold’s for the best Happy Hour in Cave Creek\, Monday – Friday 2 pm – 6 pm! Reverse Happy Hour from 9 pm to close on Sunday – Thursday!  Food and Drink specials starting at $5!  Spend your happiest hours at Harold’s Corral! \n 
URL:https://haroldscorral.com/event/happy-hour-3-2-3-2/2031-03-12/
LOCATION:Harold’s Corral\, 6895 E Cave Creek Rd\, Cave Creek\, AZ\, 85331\, United States
CATEGORIES:Events
GEO:33.8301645;-111.9328981
X-APPLE-STRUCTURED-LOCATION;VALUE=URI;X-ADDRESS=Harold’s Corral 6895 E Cave Creek Rd Cave Creek AZ 85331 United States;X-APPLE-RADIUS=500;X-TITLE=6895 E Cave Creek Rd:geo:-111.9328981,33.8301645
END:VEVENT
BEGIN:VEVENT
DTSTART;TZID=America/Phoenix:20310313T140000
DTEND;TZID=America/Phoenix:20310313T180000
DTSTAMP:20260425T081808
CREATED:20260330T222039Z
LAST-MODIFIED:20260330T222040Z
UID:10016015-1931176800-1931191200@haroldscorral.com
SUMMARY:HAPPY HOUR
DESCRIPTION:Head to Harold’s for the best Happy Hour in Cave Creek\, Monday – Friday 2 pm – 6 pm! Reverse Happy Hour from 9 pm to close on Sunday – Thursday!  Food and Drink specials starting at $5!  Spend your happiest hours at Harold’s Corral! \n 
URL:https://haroldscorral.com/event/happy-hour-3-2-3-2/2031-03-13/
LOCATION:Harold’s Corral\, 6895 E Cave Creek Rd\, Cave Creek\, AZ\, 85331\, United States
CATEGORIES:Events
GEO:33.8301645;-111.9328981
X-APPLE-STRUCTURED-LOCATION;VALUE=URI;X-ADDRESS=Harold’s Corral 6895 E Cave Creek Rd Cave Creek AZ 85331 United States;X-APPLE-RADIUS=500;X-TITLE=6895 E Cave Creek Rd:geo:-111.9328981,33.8301645
END:VEVENT
BEGIN:VEVENT
DTSTART;TZID=America/Phoenix:20310314T140000
DTEND;TZID=America/Phoenix:20310314T180000
DTSTAMP:20260425T081808
CREATED:20260330T222039Z
LAST-MODIFIED:20260330T222040Z
UID:10016016-1931263200-1931277600@haroldscorral.com
SUMMARY:HAPPY HOUR
DESCRIPTION:Head to Harold’s for the best Happy Hour in Cave Creek\, Monday – Friday 2 pm – 6 pm! Reverse Happy Hour from 9 pm to close on Sunday – Thursday!  Food and Drink specials starting at $5!  Spend your happiest hours at Harold’s Corral! \n 
URL:https://haroldscorral.com/event/happy-hour-3-2-3-2/2031-03-14/
LOCATION:Harold’s Corral\, 6895 E Cave Creek Rd\, Cave Creek\, AZ\, 85331\, United States
CATEGORIES:Events
GEO:33.8301645;-111.9328981
X-APPLE-STRUCTURED-LOCATION;VALUE=URI;X-ADDRESS=Harold’s Corral 6895 E Cave Creek Rd Cave Creek AZ 85331 United States;X-APPLE-RADIUS=500;X-TITLE=6895 E Cave Creek Rd:geo:-111.9328981,33.8301645
END:VEVENT
BEGIN:VEVENT
DTSTART;TZID=America/Phoenix:20310317T140000
DTEND;TZID=America/Phoenix:20310317T180000
DTSTAMP:20260425T081808
CREATED:20260330T222039Z
LAST-MODIFIED:20260330T222040Z
UID:10016025-1931522400-1931536800@haroldscorral.com
SUMMARY:HAPPY HOUR
DESCRIPTION:Head to Harold’s for the best Happy Hour in Cave Creek\, Monday – Friday 2 pm – 6 pm! Reverse Happy Hour from 9 pm to close on Sunday – Thursday!  Food and Drink specials starting at $5!  Spend your happiest hours at Harold’s Corral! \n 
URL:https://haroldscorral.com/event/happy-hour-3-2-3-2/2031-03-17/
LOCATION:Harold’s Corral\, 6895 E Cave Creek Rd\, Cave Creek\, AZ\, 85331\, United States
CATEGORIES:Events
GEO:33.8301645;-111.9328981
X-APPLE-STRUCTURED-LOCATION;VALUE=URI;X-ADDRESS=Harold’s Corral 6895 E Cave Creek Rd Cave Creek AZ 85331 United States;X-APPLE-RADIUS=500;X-TITLE=6895 E Cave Creek Rd:geo:-111.9328981,33.8301645
END:VEVENT
BEGIN:VEVENT
DTSTART;TZID=America/Phoenix:20310318T140000
DTEND;TZID=America/Phoenix:20310318T180000
DTSTAMP:20260425T081808
CREATED:20260330T222039Z
LAST-MODIFIED:20260330T222040Z
UID:10016026-1931608800-1931623200@haroldscorral.com
SUMMARY:HAPPY HOUR
DESCRIPTION:Head to Harold’s for the best Happy Hour in Cave Creek\, Monday – Friday 2 pm – 6 pm! Reverse Happy Hour from 9 pm to close on Sunday – Thursday!  Food and Drink specials starting at $5!  Spend your happiest hours at Harold’s Corral! \n 
URL:https://haroldscorral.com/event/happy-hour-3-2-3-2/2031-03-18/
LOCATION:Harold’s Corral\, 6895 E Cave Creek Rd\, Cave Creek\, AZ\, 85331\, United States
CATEGORIES:Events
GEO:33.8301645;-111.9328981
X-APPLE-STRUCTURED-LOCATION;VALUE=URI;X-ADDRESS=Harold’s Corral 6895 E Cave Creek Rd Cave Creek AZ 85331 United States;X-APPLE-RADIUS=500;X-TITLE=6895 E Cave Creek Rd:geo:-111.9328981,33.8301645
END:VEVENT
BEGIN:VEVENT
DTSTART;TZID=America/Phoenix:20310319T140000
DTEND;TZID=America/Phoenix:20310319T180000
DTSTAMP:20260425T081808
CREATED:20260330T222039Z
LAST-MODIFIED:20260330T222040Z
UID:10016027-1931695200-1931709600@haroldscorral.com
SUMMARY:HAPPY HOUR
DESCRIPTION:Head to Harold’s for the best Happy Hour in Cave Creek\, Monday – Friday 2 pm – 6 pm! Reverse Happy Hour from 9 pm to close on Sunday – Thursday!  Food and Drink specials starting at $5!  Spend your happiest hours at Harold’s Corral! \n 
URL:https://haroldscorral.com/event/happy-hour-3-2-3-2/2031-03-19/
LOCATION:Harold’s Corral\, 6895 E Cave Creek Rd\, Cave Creek\, AZ\, 85331\, United States
CATEGORIES:Events
GEO:33.8301645;-111.9328981
X-APPLE-STRUCTURED-LOCATION;VALUE=URI;X-ADDRESS=Harold’s Corral 6895 E Cave Creek Rd Cave Creek AZ 85331 United States;X-APPLE-RADIUS=500;X-TITLE=6895 E Cave Creek Rd:geo:-111.9328981,33.8301645
END:VEVENT
BEGIN:VEVENT
DTSTART;TZID=America/Phoenix:20310320T140000
DTEND;TZID=America/Phoenix:20310320T180000
DTSTAMP:20260425T081808
CREATED:20260330T222039Z
LAST-MODIFIED:20260330T222040Z
UID:10016028-1931781600-1931796000@haroldscorral.com
SUMMARY:HAPPY HOUR
DESCRIPTION:Head to Harold’s for the best Happy Hour in Cave Creek\, Monday – Friday 2 pm – 6 pm! Reverse Happy Hour from 9 pm to close on Sunday – Thursday!  Food and Drink specials starting at $5!  Spend your happiest hours at Harold’s Corral! \n 
URL:https://haroldscorral.com/event/happy-hour-3-2-3-2/2031-03-20/
LOCATION:Harold’s Corral\, 6895 E Cave Creek Rd\, Cave Creek\, AZ\, 85331\, United States
CATEGORIES:Events
GEO:33.8301645;-111.9328981
X-APPLE-STRUCTURED-LOCATION;VALUE=URI;X-ADDRESS=Harold’s Corral 6895 E Cave Creek Rd Cave Creek AZ 85331 United States;X-APPLE-RADIUS=500;X-TITLE=6895 E Cave Creek Rd:geo:-111.9328981,33.8301645
END:VEVENT
BEGIN:VEVENT
DTSTART;TZID=America/Phoenix:20310321T140000
DTEND;TZID=America/Phoenix:20310321T180000
DTSTAMP:20260425T081808
CREATED:20260330T222039Z
LAST-MODIFIED:20260330T222040Z
UID:10016029-1931868000-1931882400@haroldscorral.com
SUMMARY:HAPPY HOUR
DESCRIPTION:Head to Harold’s for the best Happy Hour in Cave Creek\, Monday – Friday 2 pm – 6 pm! Reverse Happy Hour from 9 pm to close on Sunday – Thursday!  Food and Drink specials starting at $5!  Spend your happiest hours at Harold’s Corral! \n 
URL:https://haroldscorral.com/event/happy-hour-3-2-3-2/2031-03-21/
LOCATION:Harold’s Corral\, 6895 E Cave Creek Rd\, Cave Creek\, AZ\, 85331\, United States
CATEGORIES:Events
GEO:33.8301645;-111.9328981
X-APPLE-STRUCTURED-LOCATION;VALUE=URI;X-ADDRESS=Harold’s Corral 6895 E Cave Creek Rd Cave Creek AZ 85331 United States;X-APPLE-RADIUS=500;X-TITLE=6895 E Cave Creek Rd:geo:-111.9328981,33.8301645
END:VEVENT
BEGIN:VEVENT
DTSTART;TZID=America/Phoenix:20310324T140000
DTEND;TZID=America/Phoenix:20310324T180000
DTSTAMP:20260425T081808
CREATED:20260330T222039Z
LAST-MODIFIED:20260330T222040Z
UID:10016030-1932127200-1932141600@haroldscorral.com
SUMMARY:HAPPY HOUR
DESCRIPTION:Head to Harold’s for the best Happy Hour in Cave Creek\, Monday – Friday 2 pm – 6 pm! Reverse Happy Hour from 9 pm to close on Sunday – Thursday!  Food and Drink specials starting at $5!  Spend your happiest hours at Harold’s Corral! \n 
URL:https://haroldscorral.com/event/happy-hour-3-2-3-2/2031-03-24/
LOCATION:Harold’s Corral\, 6895 E Cave Creek Rd\, Cave Creek\, AZ\, 85331\, United States
CATEGORIES:Events
GEO:33.8301645;-111.9328981
X-APPLE-STRUCTURED-LOCATION;VALUE=URI;X-ADDRESS=Harold’s Corral 6895 E Cave Creek Rd Cave Creek AZ 85331 United States;X-APPLE-RADIUS=500;X-TITLE=6895 E Cave Creek Rd:geo:-111.9328981,33.8301645
END:VEVENT
BEGIN:VEVENT
DTSTART;TZID=America/Phoenix:20310325T140000
DTEND;TZID=America/Phoenix:20310325T180000
DTSTAMP:20260425T081808
CREATED:20260330T222039Z
LAST-MODIFIED:20260330T222040Z
UID:10016031-1932213600-1932228000@haroldscorral.com
SUMMARY:HAPPY HOUR
DESCRIPTION:Head to Harold’s for the best Happy Hour in Cave Creek\, Monday – Friday 2 pm – 6 pm! Reverse Happy Hour from 9 pm to close on Sunday – Thursday!  Food and Drink specials starting at $5!  Spend your happiest hours at Harold’s Corral! \n 
URL:https://haroldscorral.com/event/happy-hour-3-2-3-2/2031-03-25/
LOCATION:Harold’s Corral\, 6895 E Cave Creek Rd\, Cave Creek\, AZ\, 85331\, United States
CATEGORIES:Events
GEO:33.8301645;-111.9328981
X-APPLE-STRUCTURED-LOCATION;VALUE=URI;X-ADDRESS=Harold’s Corral 6895 E Cave Creek Rd Cave Creek AZ 85331 United States;X-APPLE-RADIUS=500;X-TITLE=6895 E Cave Creek Rd:geo:-111.9328981,33.8301645
END:VEVENT
BEGIN:VEVENT
DTSTART;TZID=America/Phoenix:20310326T140000
DTEND;TZID=America/Phoenix:20310326T180000
DTSTAMP:20260425T081808
CREATED:20260330T222039Z
LAST-MODIFIED:20260330T222040Z
UID:10016032-1932300000-1932314400@haroldscorral.com
SUMMARY:HAPPY HOUR
DESCRIPTION:Head to Harold’s for the best Happy Hour in Cave Creek\, Monday – Friday 2 pm – 6 pm! Reverse Happy Hour from 9 pm to close on Sunday – Thursday!  Food and Drink specials starting at $5!  Spend your happiest hours at Harold’s Corral! \n 
URL:https://haroldscorral.com/event/happy-hour-3-2-3-2/2031-03-26/
LOCATION:Harold’s Corral\, 6895 E Cave Creek Rd\, Cave Creek\, AZ\, 85331\, United States
CATEGORIES:Events
GEO:33.8301645;-111.9328981
X-APPLE-STRUCTURED-LOCATION;VALUE=URI;X-ADDRESS=Harold’s Corral 6895 E Cave Creek Rd Cave Creek AZ 85331 United States;X-APPLE-RADIUS=500;X-TITLE=6895 E Cave Creek Rd:geo:-111.9328981,33.8301645
END:VEVENT
BEGIN:VEVENT
DTSTART;TZID=America/Phoenix:20310327T140000
DTEND;TZID=America/Phoenix:20310327T180000
DTSTAMP:20260425T081808
CREATED:20260330T222039Z
LAST-MODIFIED:20260330T222040Z
UID:10016033-1932386400-1932400800@haroldscorral.com
SUMMARY:HAPPY HOUR
DESCRIPTION:Head to Harold’s for the best Happy Hour in Cave Creek\, Monday – Friday 2 pm – 6 pm! Reverse Happy Hour from 9 pm to close on Sunday – Thursday!  Food and Drink specials starting at $5!  Spend your happiest hours at Harold’s Corral! \n 
URL:https://haroldscorral.com/event/happy-hour-3-2-3-2/2031-03-27/
LOCATION:Harold’s Corral\, 6895 E Cave Creek Rd\, Cave Creek\, AZ\, 85331\, United States
CATEGORIES:Events
GEO:33.8301645;-111.9328981
X-APPLE-STRUCTURED-LOCATION;VALUE=URI;X-ADDRESS=Harold’s Corral 6895 E Cave Creek Rd Cave Creek AZ 85331 United States;X-APPLE-RADIUS=500;X-TITLE=6895 E Cave Creek Rd:geo:-111.9328981,33.8301645
END:VEVENT
END:VCALENDAR