BEGIN:VCALENDAR
VERSION:2.0
PRODID:-//Harold&#039;s Cave Creek Corral - ECPv6.15.20//NONSGML v1.0//EN
CALSCALE:GREGORIAN
METHOD:PUBLISH
X-WR-CALNAME:Harold&#039;s Cave Creek Corral
X-ORIGINAL-URL:https://haroldscorral.com
X-WR-CALDESC:Events for Harold&#039;s Cave Creek Corral
REFRESH-INTERVAL;VALUE=DURATION:PT1H
X-Robots-Tag:noindex
X-PUBLISHED-TTL:PT1H
BEGIN:VTIMEZONE
TZID:America/Phoenix
BEGIN:STANDARD
TZOFFSETFROM:-0700
TZOFFSETTO:-0700
TZNAME:MST
DTSTART:20300101T000000
END:STANDARD
END:VTIMEZONE
BEGIN:VEVENT
DTSTART;TZID=America/Phoenix:20310328T140000
DTEND;TZID=America/Phoenix:20310328T180000
DTSTAMP:20260425T130135
CREATED:20260330T222039Z
LAST-MODIFIED:20260330T222040Z
UID:10016034-1932472800-1932487200@haroldscorral.com
SUMMARY:HAPPY HOUR
DESCRIPTION:Head to Harold’s for the best Happy Hour in Cave Creek\, Monday – Friday 2 pm – 6 pm! Reverse Happy Hour from 9 pm to close on Sunday – Thursday!  Food and Drink specials starting at $5!  Spend your happiest hours at Harold’s Corral! \n 
URL:https://haroldscorral.com/event/happy-hour-3-2-3-2/2031-03-28/
LOCATION:Harold’s Corral\, 6895 E Cave Creek Rd\, Cave Creek\, AZ\, 85331\, United States
CATEGORIES:Events
GEO:33.8301645;-111.9328981
X-APPLE-STRUCTURED-LOCATION;VALUE=URI;X-ADDRESS=Harold’s Corral 6895 E Cave Creek Rd Cave Creek AZ 85331 United States;X-APPLE-RADIUS=500;X-TITLE=6895 E Cave Creek Rd:geo:-111.9328981,33.8301645
END:VEVENT
END:VCALENDAR